BEGIN:VCALENDAR
VERSION:2.0
PRODID:spatie/icalendar-generator
DESCRIPTION:大道塾のイベント
X-WR-CALDESC:大道塾のイベント
REFRESH-INTERVAL;VALUE=DURATION:PT1440M
X-PUBLISHED-TTL:PT1440M
BEGIN:VTIMEZONE
TZID:Asia/Tokyo
BEGIN:STANDARD
DTSTART:20190612T000000Z
TZOFFSETFROM:+0900
TZOFFSETTO:+0900
END:STANDARD
END:VTIMEZONE
BEGIN:VTIMEZONE
TZID:UTC
BEGIN:STANDARD
DTSTART:20250727T053153Z
TZOFFSETFROM:+0000
TZOFFSETTO:+0000
END:STANDARD
END:VTIMEZONE
BEGIN:VEVENT
UID:1203-326
DTSTAMP:20260423T053153Z
SUMMARY:日曜技術講習クラス（山崎進担当）
LOCATION:
ORGANIZER;CN=daido:MAILTO:ten@dragon-media.jp
RRULE:FREQ=WEEKLY;COUNT=3
DTSTART;TZID=Asia/Tokyo;VALUE=DATE:20200308
DTEND;TZID=Asia/Tokyo;VALUE=DATE:20200309
X-ALT-DESC;FMTTYPE=TEXT/HTML:
CATEGORIES:General
URL;VALUE=URI:http://daidojuku.com/jp/my-calendar/?cid=mc-eebc9a21598585f5d
 8bea2ab08144d58&#038;mc_id=1203&#038;vcal=1203
METHOD:PUBLISH
END:VEVENT
END:VCALENDAR